BEGIN:VCALENDAR
VERSION:2.0
PRODID:https://github.com/derhansen/sf_event_mgt
METHOD:PUBLISH
BEGIN:VEVENT
UID:315-96@www.aekb.de
CLASS: PUBLIC
SUMMARY:Arbeitsmedizinischer Weiterbildungskurs Modul V
DESCRIPTION:Der Weiterbildungskurs Arbeitsmedizin/Betriebsmedizin ist ein t
 heoretischer Lehrgang im Rahmen der Weiterbildung zur Ärztin oder zum Arzt 
 für Arbeitsmedizin. Er besteht aus 6 Modulen zu je 60 Stunden. Die Schwerpu
 nkte der einzelnen Module sind:\n\n 	Modul I: Einführung in die Arbeitsmedi
 zin 	Modul II: Arbeit und Gesundheit 	Modul III: Gefährdungs- und Risikobeu
 rteilung 	Modul IV: Arbeitsbedingte Erkrankungen einschließlich Berufskrank
 heiten 	Modul V: Arbeitsmedizinische Profession und interdisziplinäre Zusam
 menarbeit 	Modul VI: Medizinische Handlungsfelder der Arbeitsmedizin \n\nWo
  immer möglich starten die Module mit einer Selbstlernphase als E-Learning,
  die zeitlich flexibel in den vier Wochen vor Beginn der Präsenzveranstaltu
 ng absolviert wird.\n\nDie Kurse richten sich nach dem (Muster-)Kursbuch Ar
 beitsmedizin/Betriebsmedizin der Bundesärztekammer in der Fassung vom 17./1
 8.02.2022. 
LOCATION:Ärztekammer Berlin
DTSTAMP:20250409T143223Z
DTSTART:20260112T083000Z
DTEND:20260121T093000Z
END:VEVENT
END:VCALENDAR